BEGIN:VCALENDAR
VERSION:2.0
PRODID:-//Jazzclub Leipzig e.V. //NONSGML Events //EN
CALSCALE:GREGORIAN
X-WR-CALNAME:Jazzclub Leipzig e.V.
BEGIN:VEVENT
X-CREATED:20220823T092921Z
UID:26477
DTEND;VALUE=DATE:20220919T220000
DTSTART;VALUE=DATE:20220919T200000
DTSTAMP:20260419T172542Z
LOCATION:Kulturhof Gohlis
DESCRIPTION:Der Leipziger Posaunist Mathias Hochmuth widmet sich der Musik Curtis Fullers und rückt seine Musik in den Vordergrund • Mathias Hochmuth (pos), Patrick Schanze (trp), Simon Bodensiek (sax), Olga Reznichenko (p), Andris Meinig (b), Tom Friedrich (dr)
SUMMARY:Flashback #30 Curtis Fuller (Mathias Hochmuth)
ORGANIZER:Jazzclub Leipzig e.V.
URL;VALUE=URI:https://www.jazzclub-leipzig.de/kategorie-jazzkalender/jazzkalender-termine/jazzkalender-termine-jazzclub-live/flashback-curtis-fuller-mathias-hochmuth/
TRANSP:OPAQUE
BEGIN:VALARM
ACTION:DISPLAY
TRIGGER;VALUE=DATE-TIME:20220919T190000Z
DESCRIPTION:Erinnerung an Flashback #30 Curtis Fuller (Mathias Hochmuth)
END:VALARM
END:VEVENT
END:VCALENDAR
