BEGIN:VCALENDAR
VERSION:2.0
PRODID:-//Jazzclub Leipzig e.V. //NONSGML Events //EN
CALSCALE:GREGORIAN
X-WR-CALNAME:Jazzclub Leipzig e.V.
BEGIN:VEVENT
X-CREATED:20220629T095100Z
UID:26021
DTEND;VALUE=DATE:20220702T200000
DTSTART;VALUE=DATE:20220702T180000
DTSTAMP:20260422T105940Z
LOCATION:Schloss Rochlitz (Rochlitz)
DESCRIPTION:Musik für Kids! Musikalisch entführen der MDR-Kinderchor und sein Leiter Alexander Schmitt in die Welt der kleinen und großen Tiere.
SUMMARY:Tierisch musikalisch
ORGANIZER:Jazzclub Leipzig e.V.
URL;VALUE=URI:https://www.jazzclub-leipzig.de/kategorie-jazzkalender/tierisch-musikalisch/
TRANSP:OPAQUE
BEGIN:VALARM
ACTION:DISPLAY
TRIGGER;VALUE=DATE-TIME:20220702T170000Z
DESCRIPTION:Erinnerung an Tierisch musikalisch
END:VALARM
END:VEVENT
END:VCALENDAR
