BEGIN:VCALENDAR
VERSION:2.0
PRODID:-//Jazzclub Leipzig e.V. //NONSGML Events //EN
CALSCALE:GREGORIAN
X-WR-CALNAME:Jazzclub Leipzig e.V.
BEGIN:VEVENT
X-CREATED:20220525T125446Z
UID:25751
DTEND;VALUE=DATE:20220621T213000
DTSTART;VALUE=DATE:20220621T193000
DTSTAMP:20260420T133117Z
LOCATION:Moritzbastei\, Ratstonne
DESCRIPTION:Konzert und Session in Kooperation von Jazzclub Leipzig und HMT Leipzig Mindestens 2,00 € Kulturbeitrag für den Session-Opener
SUMMARY:Lukas Heckers Band￼
ORGANIZER:Jazzclub Leipzig e.V.
URL;VALUE=URI:https://www.jazzclub-leipzig.de/kategorie-jazzclub/lukas-heckers-band%ef%bf%bc/
TRANSP:OPAQUE
BEGIN:VALARM
ACTION:DISPLAY
TRIGGER;VALUE=DATE-TIME:20220621T183000Z
DESCRIPTION:Erinnerung an Lukas Heckers Band￼
END:VALARM
END:VEVENT
END:VCALENDAR
