BEGIN:VCALENDAR
VERSION:2.0
PRODID:-//Jazzclub Leipzig e.V. //NONSGML Events //EN
CALSCALE:GREGORIAN
X-WR-CALNAME:Jazzclub Leipzig e.V.
BEGIN:VEVENT
X-CREATED:20220525T124710Z
UID:25746
DTEND;VALUE=DATE:20220614T213000
DTSTART;VALUE=DATE:20220614T193000
DTSTAMP:20260420T113239Z
LOCATION:Moritzbastei\, Ratstonne
DESCRIPTION:Konzert und Session in Kooperation von Jazzclub Leipzig und HMT Leipzig Mindestens 2,00 € Kulturbeitrag für den Session-Opener
SUMMARY:Grund zur Annahme￼
ORGANIZER:Jazzclub Leipzig e.V.
URL;VALUE=URI:https://www.jazzclub-leipzig.de/kategorie-jazzclub/grund-zur-annahme%ef%bf%bc/
TRANSP:OPAQUE
BEGIN:VALARM
ACTION:DISPLAY
TRIGGER;VALUE=DATE-TIME:20220614T183000Z
DESCRIPTION:Erinnerung an Grund zur Annahme￼
END:VALARM
END:VEVENT
END:VCALENDAR
