BEGIN:VCALENDAR
VERSION:2.0
PRODID:-//Jazzclub Leipzig e.V. //NONSGML Events //EN
CALSCALE:GREGORIAN
X-WR-CALNAME:Jazzclub Leipzig e.V.
BEGIN:VEVENT
X-CREATED:20220525T125546Z
UID:25740
DTEND;VALUE=DATE:20220607T213000
DTSTART;VALUE=DATE:20220607T193000
DTSTAMP:20260420T113344Z
LOCATION:Moritzbastei\, Ratstonne
DESCRIPTION:Konzert und Session in Kooperation von Jazzclub Leipzig und HMT Leipzig Mindestens 2,00 € Kulturbeitrag für den Session-Opener
SUMMARY:Trio Sexy￼￼
ORGANIZER:Jazzclub Leipzig e.V.
URL;VALUE=URI:https://www.jazzclub-leipzig.de/kategorie-jazzclub/trio-sexy%ef%bf%bc%ef%bf%bc/
TRANSP:OPAQUE
BEGIN:VALARM
ACTION:DISPLAY
TRIGGER;VALUE=DATE-TIME:20220607T183000Z
DESCRIPTION:Erinnerung an Trio Sexy￼￼
END:VALARM
END:VEVENT
END:VCALENDAR
