BEGIN:VCALENDAR
VERSION:2.0
PRODID:-//Jazzclub Leipzig e.V. //NONSGML Events //EN
CALSCALE:GREGORIAN
X-WR-CALNAME:Jazzclub Leipzig e.V.
BEGIN:VEVENT
X-CREATED:20220504T110629Z
UID:25716
DTEND;VALUE=DATE:20220610T223000
DTSTART;VALUE=DATE:20220610T203000
DTSTAMP:20260420T113341Z
LOCATION:die naTo\, Karl-Liebknecht-Straße 46\,  04275 Leipzig
DESCRIPTION:Nach zweijährigem Bandbestehen veröffentlicht die Band unter der Leitung des Leipziger Pianisten Jonas Timm ihr Debütalbum.
SUMMARY:Jonas Timm MORBU
ORGANIZER:Jazzclub Leipzig e.V.
URL;VALUE=URI:https://www.jazzclub-leipzig.de/kategorie-jazzclub/jonas-timm-morbu-2/
TRANSP:OPAQUE
BEGIN:VALARM
ACTION:DISPLAY
TRIGGER;VALUE=DATE-TIME:20220610T193000Z
DESCRIPTION:Erinnerung an Jonas Timm MORBU
END:VALARM
END:VEVENT
END:VCALENDAR
