BEGIN:VCALENDAR
VERSION:2.0
PRODID:-//Jazzclub Leipzig e.V. //NONSGML Events //EN
CALSCALE:GREGORIAN
X-WR-CALNAME:Jazzclub Leipzig e.V.
BEGIN:VEVENT
X-CREATED:20220504T105949Z
UID:25710
DTEND;VALUE=DATE:20220606T223000
DTSTART;VALUE=DATE:20220606T203000
DTSTAMP:20260420T131714Z
LOCATION:die naTo \, Karl-Liebknecht-Straße 46\, 04275 Leipzig
DESCRIPTION:Zusammen mit Andrew Downing am Bass und Nick Fraser am Schlagzeug ist der Pianist mit der Neuveröffentlichung »Desert Bloom« auf Tour.
SUMMARY:Florian Hoefner Trio »Desert Bloom«
ORGANIZER:Jazzclub Leipzig e.V.
URL;VALUE=URI:https://www.jazzclub-leipzig.de/kategorie-jazzclub/jazzclub-termine/florian-hoefner-trio-desert-bloom-release-konzert/
TRANSP:OPAQUE
BEGIN:VALARM
ACTION:DISPLAY
TRIGGER;VALUE=DATE-TIME:20220606T193000Z
DESCRIPTION:Erinnerung an Florian Hoefner Trio »Desert Bloom«
END:VALARM
END:VEVENT
END:VCALENDAR
