BEGIN:VCALENDAR
VERSION:2.0
PRODID:-//Jazzclub Leipzig e.V. //NONSGML Events //EN
CALSCALE:GREGORIAN
X-WR-CALNAME:Jazzclub Leipzig e.V.
BEGIN:VEVENT
X-CREATED:20220327T153751Z
UID:25303
DTEND;VALUE=DATE:20220408T220000
DTSTART;VALUE=DATE:20220408T200000
DTSTAMP:20260420T113700Z
LOCATION:Moritzbastei\, Unterkeller
DESCRIPTION:1991 als Bundesweites Jazznachwuchsfestival von Moritzbastei Leipzig und Jazzclub Leipzig als Forum für junge Jazzprojekte aus ganz Deutschland ins Leben gerufen ist jetzt FUTURUM!
SUMMARY:FUTURUM 2022
ORGANIZER:Jazzclub Leipzig e.V.
URL;VALUE=URI:https://www.jazzclub-leipzig.de/kategorie-jazzclub/futurum-2022/
TRANSP:OPAQUE
BEGIN:VALARM
ACTION:DISPLAY
TRIGGER;VALUE=DATE-TIME:20220408T190000Z
DESCRIPTION:Erinnerung an FUTURUM 2022
END:VALARM
END:VEVENT
END:VCALENDAR
