BEGIN:VCALENDAR
VERSION:2.0
PRODID:-//Jazzclub Leipzig e.V. //NONSGML Events //EN
CALSCALE:GREGORIAN
X-WR-CALNAME:Jazzclub Leipzig e.V.
BEGIN:VEVENT
X-CREATED:20220324T153451Z
UID:25238
DTEND;VALUE=DATE:20220531T213000
DTSTART;VALUE=DATE:20220531T193000
DTSTAMP:20260420T113400Z
LOCATION:Moritzbastei\, Ratstonne
DESCRIPTION:Konzert und Session in Kooperation von Jazzclub Leipzig und HMT Leipzig
SUMMARY:Kohlhaas/Walter/Müller/Kleimann
ORGANIZER:Jazzclub Leipzig e.V.
URL;VALUE=URI:https://www.jazzclub-leipzig.de/kategorie-jazzclub/kohlhaas-walter-mueller-kleimann/
TRANSP:OPAQUE
BEGIN:VALARM
ACTION:DISPLAY
TRIGGER;VALUE=DATE-TIME:20220531T183000Z
DESCRIPTION:Erinnerung an Kohlhaas/Walter/Müller/Kleimann
END:VALARM
END:VEVENT
END:VCALENDAR
