BEGIN:VCALENDAR
VERSION:2.0
PRODID:-//Jazzclub Leipzig e.V. //NONSGML Events //EN
CALSCALE:GREGORIAN
X-WR-CALNAME:Jazzclub Leipzig e.V.
BEGIN:VEVENT
X-CREATED:20220324T152933Z
UID:25233
DTEND;VALUE=DATE:20220524T213000
DTSTART;VALUE=DATE:20220524T193000
DTSTAMP:20260420T131713Z
LOCATION:Moritzbastei\, Ratstonne
DESCRIPTION:Konzert und Session in Kooperation von Jazzclub Leipzig und HMT Leipzig
SUMMARY:Moritz Land Quartett
ORGANIZER:Jazzclub Leipzig e.V.
URL;VALUE=URI:https://www.jazzclub-leipzig.de/kategorie-jazzclub/moritz-land-quartett-2/
TRANSP:OPAQUE
BEGIN:VALARM
ACTION:DISPLAY
TRIGGER;VALUE=DATE-TIME:20220524T183000Z
DESCRIPTION:Erinnerung an Moritz Land Quartett
END:VALARM
END:VEVENT
END:VCALENDAR
