BEGIN:VCALENDAR
VERSION:2.0
PRODID:-//Jazzclub Leipzig e.V. //NONSGML Events //EN
CALSCALE:GREGORIAN
X-WR-CALNAME:Jazzclub Leipzig e.V.
BEGIN:VEVENT
X-CREATED:20220324T152225Z
UID:25217
DTEND;VALUE=DATE:20220503T213000
DTSTART;VALUE=DATE:20220503T193000
DTSTAMP:20260420T113339Z
LOCATION:Moritzbastei\, Ratstonne
DESCRIPTION:Konzert und Session in Kooperation von Jazzclub Leipzig und HMT Leipzig
SUMMARY:Emmanuel Walter Trio
ORGANIZER:Jazzclub Leipzig e.V.
URL;VALUE=URI:https://www.jazzclub-leipzig.de/kategorie-jazzclub/emmanuel-walter-trio/
TRANSP:OPAQUE
BEGIN:VALARM
ACTION:DISPLAY
TRIGGER;VALUE=DATE-TIME:20220503T183000Z
DESCRIPTION:Erinnerung an Emmanuel Walter Trio
END:VALARM
END:VEVENT
END:VCALENDAR
