BEGIN:VCALENDAR
VERSION:2.0
PRODID:-//Jazzclub Leipzig e.V. //NONSGML Events //EN
CALSCALE:GREGORIAN
X-WR-CALNAME:Jazzclub Leipzig e.V.
BEGIN:VEVENT
X-CREATED:20220324T145601Z
UID:25203
DTEND;VALUE=DATE:20220426T213000
DTSTART;VALUE=DATE:20220426T193000
DTSTAMP:20260420T113359Z
LOCATION:Moritzbastei\, Ratstonne
DESCRIPTION:Konzert und Session in Kooperation von Jazzclub Leipzig und HMT Leipzig
SUMMARY:lametta
ORGANIZER:Jazzclub Leipzig e.V.
URL;VALUE=URI:https://www.jazzclub-leipzig.de/kategorie-jazzclub/lametta/
TRANSP:OPAQUE
BEGIN:VALARM
ACTION:DISPLAY
TRIGGER;VALUE=DATE-TIME:20220426T183000Z
DESCRIPTION:Erinnerung an lametta
END:VALARM
END:VEVENT
END:VCALENDAR
