BEGIN:VCALENDAR
VERSION:2.0
PRODID:-//Jazzclub Leipzig e.V. //NONSGML Events //EN
CALSCALE:GREGORIAN
X-WR-CALNAME:Jazzclub Leipzig e.V.
BEGIN:VEVENT
X-CREATED:20220324T144019Z
UID:25193
DTEND;VALUE=DATE:20220419T213000
DTSTART;VALUE=DATE:20220419T193000
DTSTAMP:20260420T113240Z
LOCATION:Moritzbastei Ratstonne
DESCRIPTION:Konzert und Session in Kooperation von Jazzclub Leipzig und HMT Leipzig
SUMMARY:Kontomichalis/Seifert Quintett
ORGANIZER:Jazzclub Leipzig e.V.
URL;VALUE=URI:https://www.jazzclub-leipzig.de/kategorie-jazzclub/kontomichalis-seifert-quintett/
TRANSP:OPAQUE
BEGIN:VALARM
ACTION:DISPLAY
TRIGGER;VALUE=DATE-TIME:20220419T183000Z
DESCRIPTION:Erinnerung an Kontomichalis/Seifert Quintett
END:VALARM
END:VEVENT
END:VCALENDAR
