BEGIN:VCALENDAR
VERSION:2.0
PRODID:-//Jazzclub Leipzig e.V. //NONSGML Events //EN
CALSCALE:GREGORIAN
X-WR-CALNAME:Jazzclub Leipzig e.V.
BEGIN:VEVENT
X-CREATED:20220321T132629Z
UID:25168
DTEND;VALUE=DATE:20220405T213000
DTSTART;VALUE=DATE:20220405T193000
DTSTAMP:20260420T112619Z
LOCATION:Moritzbastei Ratstonne
DESCRIPTION:Konzert und Session in Kooperation von Jazzclub Leipzig und HMT Leipzig
SUMMARY:Müller/Ribeiro/Sieberns
ORGANIZER:Jazzclub Leipzig e.V.
URL;VALUE=URI:https://www.jazzclub-leipzig.de/kategorie-jazzclub/mueller-ribeiro-sieberns/
TRANSP:OPAQUE
BEGIN:VALARM
ACTION:DISPLAY
TRIGGER;VALUE=DATE-TIME:20220405T183000Z
DESCRIPTION:Erinnerung an Müller/Ribeiro/Sieberns
END:VALARM
END:VEVENT
END:VCALENDAR
