BEGIN:VCALENDAR
VERSION:2.0
PRODID:-//Jazzclub Leipzig e.V. //NONSGML Events //EN
CALSCALE:GREGORIAN
X-WR-CALNAME:Jazzclub Leipzig e.V.
BEGIN:VEVENT
X-CREATED:20220317T115625Z
UID:25122
DTEND;VALUE=DATE:20220413T220000
DTSTART;VALUE=DATE:20220413T200000
DTSTAMP:20260420T113401Z
LOCATION:Kulturhof Gohlis\, Eisenacher Str. 72\, 04155 Leipzig
DESCRIPTION:Ende Januar 2022 ist das hörenswerte Debütalbum des Kontrabassisten Carl Christian Wittig bei nWog-Records erschienen. Nun bringt er die Musik seines genreüberschreitenden Oktetts live auf die Bühne.
SUMMARY:Aurora Oktett »Perspective Suite«
ORGANIZER:Jazzclub Leipzig e.V.
URL;VALUE=URI:https://www.jazzclub-leipzig.de/kategorie-jazzkalender/aurora-oktett-perspective-suite/
TRANSP:OPAQUE
BEGIN:VALARM
ACTION:DISPLAY
TRIGGER;VALUE=DATE-TIME:20220413T190000Z
DESCRIPTION:Erinnerung an Aurora Oktett »Perspective Suite«
END:VALARM
END:VEVENT
END:VCALENDAR
