BEGIN:VCALENDAR
VERSION:2.0
PRODID:-//Jazzclub Leipzig e.V. //NONSGML Events //EN
CALSCALE:GREGORIAN
X-WR-CALNAME:Jazzclub Leipzig e.V.
BEGIN:VEVENT
X-CREATED:20220307T202046Z
UID:25047
DTEND;VALUE=DATE:20220423T223000
DTSTART;VALUE=DATE:20220423T203000
DTSTAMP:20260420T113357Z
LOCATION:die naTo\, KARL-LIEBKNECHT-STRASSE 46\, 04275 LEIPZIG
DESCRIPTION:Seit 2018 gemeinsam auf Tour, veröffentlichte MANKO im Juni 2021 die erste Single »Idyc« der Debüt-EP »manko-manko« und ebenjene Musik gibt es nun auch live in Leipzig zu hören.
SUMMARY:Manko »manko-manko«
ORGANIZER:Jazzclub Leipzig e.V.
URL;VALUE=URI:https://www.jazzclub-leipzig.de/kategorie-jazzclub/manko-manko-manko/
TRANSP:OPAQUE
BEGIN:VALARM
ACTION:DISPLAY
TRIGGER;VALUE=DATE-TIME:20220423T193000Z
DESCRIPTION:Erinnerung an Manko »manko-manko«
END:VALARM
END:VEVENT
END:VCALENDAR
