BEGIN:VCALENDAR
VERSION:2.0
PRODID:-//Jazzclub Leipzig e.V. //NONSGML Events //EN
CALSCALE:GREGORIAN
X-WR-CALNAME:Jazzclub Leipzig e.V.
BEGIN:VEVENT
X-CREATED:20220307T134159Z
UID:25022
DTEND;VALUE=DATE:20220313T220000
DTSTART;VALUE=DATE:20220313T200000
DTSTAMP:20260420T150019Z
LOCATION:UT Connewitz\, Wolfgang-Heinze-Straße 12 a\, 04277 Leipzig
DESCRIPTION:Ein Abend als Zeichen der Solidarität mit der Ukraine! Ein Abend in der Hoffnung auf ein Ende des Krieges! Ein Abend gegen Ausgrenzung!
SUMMARY:Benefiz-Konzert für die Ukraine
ORGANIZER:Jazzclub Leipzig e.V.
URL;VALUE=URI:https://www.jazzclub-leipzig.de/kategorie-jazzkalender/benefiz-konzert-zugunsten-der-ukraine/
TRANSP:OPAQUE
BEGIN:VALARM
ACTION:DISPLAY
TRIGGER;VALUE=DATE-TIME:20220313T190000Z
DESCRIPTION:Erinnerung an Benefiz-Konzert für die Ukraine
END:VALARM
END:VEVENT
END:VCALENDAR
