BEGIN:VCALENDAR
VERSION:2.0
PRODID:-//Jazzclub Leipzig e.V. //NONSGML Events //EN
CALSCALE:GREGORIAN
X-WR-CALNAME:Jazzclub Leipzig e.V.
BEGIN:VEVENT
X-CREATED:20220306T201252Z
UID:24996
DTEND;VALUE=DATE:20220425T223000
DTSTART;VALUE=DATE:20220425T203000
DTSTAMP:20260419T174334Z
LOCATION:die naTo\, KARL-LIEBKNECHT-STRASSE 46\, 04275 LEIPZIG
DESCRIPTION:Den Schweizer Schlagzeuger und Perkussionisten Florian Arbenz und den legendären amerikanischen Saxofonisten Greg Osby verbindet eine bereits 22 Jahren andauernde professionelle Beziehung und weltweit mehr als 200 gemeinsam gespielte Konzerte.
SUMMARY:Florian Arbenz/Greg Osby »Reflections Of The Eternal Line«
ORGANIZER:Jazzclub Leipzig e.V.
URL;VALUE=URI:https://www.jazzclub-leipzig.de/kategorie-jazzclub/florian-arbenz-greg-osby-reflections-of-the-eternal-line/
TRANSP:OPAQUE
BEGIN:VALARM
ACTION:DISPLAY
TRIGGER;VALUE=DATE-TIME:20220425T193000Z
DESCRIPTION:Erinnerung an Florian Arbenz/Greg Osby »Reflections Of The Eternal Line«
END:VALARM
END:VEVENT
END:VCALENDAR
