BEGIN:VCALENDAR
VERSION:2.0
PRODID:-//Jazzclub Leipzig e.V. //NONSGML Events //EN
CALSCALE:GREGORIAN
X-WR-CALNAME:Jazzclub Leipzig e.V.
BEGIN:VEVENT
X-CREATED:20220306T195745Z
UID:24989
DTEND;VALUE=DATE:20220408T223000
DTSTART;VALUE=DATE:20220408T203000
DTSTAMP:20260419T172543Z
LOCATION:die naTo\, Karl-Liebknecht-Straße 46\, 04275 Leipzig
DESCRIPTION:Release-Konzert von »suboptimal«, dem zweiten Album von [schtaks], der Band des Schlagzeugers Max Stadtfeld und das ist alles andere als das, – vielmehr "super-optimal".
SUMMARY:STAX »suboptimal«
ORGANIZER:Jazzclub Leipzig e.V.
URL;VALUE=URI:https://www.jazzclub-leipzig.de/kategorie-jazzclub/stax-suboptimal/
TRANSP:OPAQUE
BEGIN:VALARM
ACTION:DISPLAY
TRIGGER;VALUE=DATE-TIME:20220408T193000Z
DESCRIPTION:Erinnerung an STAX »suboptimal«
END:VALARM
END:VEVENT
END:VCALENDAR
