BEGIN:VCALENDAR
VERSION:2.0
PRODID:-//Jazzclub Leipzig e.V. //NONSGML Events //EN
CALSCALE:GREGORIAN
X-WR-CALNAME:Jazzclub Leipzig e.V.
BEGIN:VEVENT
X-CREATED:20220223T160948Z
UID:24855
DTEND;VALUE=DATE:20220504T223000
DTSTART;VALUE=DATE:20220504T203000
DTSTAMP:20260419T153925Z
LOCATION:UT Connewitz\, Wolfgang-Heinze-Straße 12 a\, 04277 Leipzig
DESCRIPTION:Ursprünglich geplant für die MusikZeit 2020 »Alle Register – Die Orgel im Jazz« kommt das US-amerikanische Trio im Frühling 2022 endlich nach Leipzig.
SUMMARY:Goldings / Bernstein / Stewart
ORGANIZER:Jazzclub Leipzig e.V.
URL;VALUE=URI:https://www.jazzclub-leipzig.de/kategorie-jazzclub/goldings-bernstein-stewart/
TRANSP:OPAQUE
BEGIN:VALARM
ACTION:DISPLAY
TRIGGER;VALUE=DATE-TIME:20220504T193000Z
DESCRIPTION:Erinnerung an Goldings / Bernstein / Stewart
END:VALARM
END:VEVENT
END:VCALENDAR
