BEGIN:VCALENDAR
VERSION:2.0
PRODID:-//Jazzclub Leipzig e.V. //NONSGML Events //EN
CALSCALE:GREGORIAN
X-WR-CALNAME:Jazzclub Leipzig e.V.
BEGIN:VEVENT
X-CREATED:20220110T133549Z
UID:24522
DTEND;VALUE=DATE:20220223T220000
DTSTART;VALUE=DATE:20220223T200000
DTSTAMP:20260419T172541Z
LOCATION:Kulturhof Gohlis\, Eisenacher Str. 72\, 04155 Leipzig
DESCRIPTION:In den Kompositionen der ukrainischen Sängerin fließen Einflüsse aus slawischer Volksmusik, die Ästhetik großer Jazzsängerinnen sowie harmonische und rhythmische Konzepte des zeitgenössischen Jazz zusammen.
SUMMARY:Kateryna Kravchenko Quartet »Stories« (Abgesagt)
ORGANIZER:Jazzclub Leipzig e.V.
URL;VALUE=URI:https://www.jazzclub-leipzig.de/kategorie-jazzkalender/kateryna-kravchenko-quartett-stories/
TRANSP:OPAQUE
BEGIN:VALARM
ACTION:DISPLAY
TRIGGER;VALUE=DATE-TIME:20220223T190000Z
DESCRIPTION:Erinnerung an Kateryna Kravchenko Quartet »Stories« (Abgesagt)
END:VALARM
END:VEVENT
END:VCALENDAR
