BEGIN:VCALENDAR
VERSION:2.0
PRODID:-//Jazzclub Leipzig e.V. //NONSGML Events //EN
CALSCALE:GREGORIAN
X-WR-CALNAME:Jazzclub Leipzig e.V.
BEGIN:VEVENT
X-CREATED:20220110T132248Z
UID:24514
DTEND;VALUE=DATE:20220207T223000
DTSTART;VALUE=DATE:20220207T203000
DTSTAMP:20260419T190739Z
LOCATION:die naTo\, Karl-Liebknecht-Straße 46\,  04275 Leipzig
DESCRIPTION:Mit der dritten Veröffentlichung seiner Band FIELD kommt der Berliner Saxofonist endlich wieder nach Leipzig!
SUMMARY:Uli Kempendorff’s FIELD »Someone talked« (Abgesagt)
ORGANIZER:Jazzclub Leipzig e.V.
URL;VALUE=URI:https://www.jazzclub-leipzig.de/kategorie-jazzclub/jazzclub-termine/uli-kempendorffs-field-someone-talked/
TRANSP:OPAQUE
BEGIN:VALARM
ACTION:DISPLAY
TRIGGER;VALUE=DATE-TIME:20220207T193000Z
DESCRIPTION:Erinnerung an Uli Kempendorff’s FIELD »Someone talked« (Abgesagt)
END:VALARM
END:VEVENT
END:VCALENDAR
