BEGIN:VCALENDAR
VERSION:2.0
PRODID:-//Jazzclub Leipzig e.V. //NONSGML Events //EN
CALSCALE:GREGORIAN
X-WR-CALNAME:Jazzclub Leipzig e.V.
BEGIN:VEVENT
X-CREATED:20211028T125954Z
UID:24310
DTEND;VALUE=DATE:20221123T223000
DTSTART;VALUE=DATE:20221123T203000
DTSTAMP:20260419T172627Z
LOCATION:UT Connewitz \, Wolfgang-Heinze-Straße 12 a\, 04277 Leipzig
DESCRIPTION:ABGESAGT
SUMMARY:SALOMEA »Bathing in Flowers« – Achtung, wegen Krankheit verschoben, neuer Termin wird gesucht
ORGANIZER:Jazzclub Leipzig e.V.
URL;VALUE=URI:https://www.jazzclub-leipzig.de/kategorie-jazzclub/jazzclub-leipzig-praesentiert-salomea-bathing-in-flowers/
TRANSP:OPAQUE
BEGIN:VALARM
ACTION:DISPLAY
TRIGGER;VALUE=DATE-TIME:20221123T193000Z
DESCRIPTION:Erinnerung an SALOMEA »Bathing in Flowers« – Achtung\, wegen Krankheit verschoben\, neuer Termin wird gesucht
END:VALARM
END:VEVENT
END:VCALENDAR
