BEGIN:VCALENDAR
VERSION:2.0
PRODID:-//Jazzclub Leipzig e.V. //NONSGML Events //EN
CALSCALE:GREGORIAN
X-WR-CALNAME:Jazzclub Leipzig e.V.
BEGIN:VEVENT
X-CREATED:20211021T135743Z
UID:24139
DTEND;VALUE=DATE:20220520T220000
DTSTART;VALUE=DATE:20220520T200000
DTSTAMP:20260420T170800Z
LOCATION:Kunstraum Ortloff\, Jahnallee 73\, 04177 Leipzig
DESCRIPTION:"Post-Jazz-Free-Noise" – der Leipziger Gitarrist Jonas Dorn präsentiert neues Album mit fulminanten Trio.
SUMMARY:DORN | ELGART | LUCACIU »DREIFINGER«
ORGANIZER:Jazzclub Leipzig e.V.
URL;VALUE=URI:https://www.jazzclub-leipzig.de/kategorie-jazzclub/dorn-elgart-lucaciu-dreifinger/
TRANSP:OPAQUE
BEGIN:VALARM
ACTION:DISPLAY
TRIGGER;VALUE=DATE-TIME:20220520T190000Z
DESCRIPTION:Erinnerung an DORN | ELGART | LUCACIU »DREIFINGER«
END:VALARM
END:VEVENT
END:VCALENDAR
