BEGIN:VCALENDAR
VERSION:2.0
PRODID:-//Jazzclub Leipzig e.V. //NONSGML Events //EN
CALSCALE:GREGORIAN
X-WR-CALNAME:Jazzclub Leipzig e.V.
BEGIN:VEVENT
X-CREATED:20211021T134153Z
UID:24131
DTEND;VALUE=DATE:20211113T220000
DTSTART;VALUE=DATE:20211113T200000
DTSTAMP:20260419T153926Z
LOCATION:Horns Erben\, Arndtstraße 33\,  04275 Leipzig
DESCRIPTION:Mit ihrem neuen Projekt Teleidoscope präsentiert die Leipziger Posaunistin Antonia Hausmann erstmals ein Programm mit eigenen Kompositionen.
SUMMARY:Antonia Hausmann Teleidoscope
ORGANIZER:Jazzclub Leipzig e.V.
URL;VALUE=URI:https://www.jazzclub-leipzig.de/kategorie-jazzclub/antonia-hausmann-teleidoscope/
TRANSP:OPAQUE
BEGIN:VALARM
ACTION:DISPLAY
TRIGGER;VALUE=DATE-TIME:20211113T190000Z
DESCRIPTION:Erinnerung an Antonia Hausmann Teleidoscope
END:VALARM
END:VEVENT
END:VCALENDAR
