BEGIN:VCALENDAR
VERSION:2.0
PRODID:-//Jazzclub Leipzig e.V. //NONSGML Events //EN
CALSCALE:GREGORIAN
X-WR-CALNAME:Jazzclub Leipzig e.V.
BEGIN:VEVENT
X-CREATED:20211021T132424Z
UID:24122
DTEND;VALUE=DATE:20211108T223000
DTSTART;VALUE=DATE:20211108T203000
DTSTAMP:20260419T153927Z
LOCATION:die naTo \, Karl-Liebknecht-Straße 46\, 04275 Leipzig
DESCRIPTION:Die Band um den Leipziger Posaunisten Georg Demel präsentiert die Musik ihres Debüt-Albums.
SUMMARY:Georg Demel Quartett »Pale Blue Dot«
ORGANIZER:Jazzclub Leipzig e.V.
URL;VALUE=URI:https://www.jazzclub-leipzig.de/kategorie-jazzclub/georg-demel-quartett-pale-blue-dot/
TRANSP:OPAQUE
BEGIN:VALARM
ACTION:DISPLAY
TRIGGER;VALUE=DATE-TIME:20211108T193000Z
DESCRIPTION:Erinnerung an Georg Demel Quartett »Pale Blue Dot«
END:VALARM
END:VEVENT
END:VCALENDAR
