BEGIN:VCALENDAR
VERSION:2.0
PRODID:-//Jazzclub Leipzig e.V. //NONSGML Events //EN
CALSCALE:GREGORIAN
X-WR-CALNAME:Jazzclub Leipzig e.V.
BEGIN:VEVENT
X-CREATED:20210915T093425Z
UID:23928
DTEND;VALUE=DATE:20220506T223000
DTSTART;VALUE=DATE:20220506T203000
DTSTAMP:20260419T135509Z
LOCATION:Schaubühne Lindenfels\, Karl-Heine-Straße 50\, 04229 Leipzig
DESCRIPTION:Live-Premiere! Der Schweizer Musiker Elia Rediger arbeitet seit Jahren eng mit befreundeten Künstler*innen aus der Demokratischen Republik Kongo zusammen und entwickelt neue Räume des künstlerischen, musikalischen Dialoges.
SUMMARY:GROUP5O:5O in Concert »Collab Stories«
ORGANIZER:Jazzclub Leipzig e.V.
URL;VALUE=URI:https://www.jazzclub-leipzig.de/kategorie-musikzeit/group5050-in-concert/
TRANSP:OPAQUE
BEGIN:VALARM
ACTION:DISPLAY
TRIGGER;VALUE=DATE-TIME:20220506T193000Z
DESCRIPTION:Erinnerung an GROUP5O:5O in Concert »Collab Stories«
END:VALARM
END:VEVENT
END:VCALENDAR
