BEGIN:VCALENDAR
VERSION:2.0
PRODID:-//Jazzclub Leipzig e.V. //NONSGML Events //EN
CALSCALE:GREGORIAN
X-WR-CALNAME:Jazzclub Leipzig e.V.
BEGIN:VEVENT
X-CREATED:20210905T112305Z
UID:23641
DTEND;VALUE=DATE:20211002T000000
DTSTART;VALUE=DATE:20211001T220000
DTSTAMP:20260420T174432Z
LOCATION:WERK 2 (Halle D)\, KOCHSTRASSE 132\, 04277 LEIPZIG
DESCRIPTION:Übersprudelnde Musikalität. KID BE KID vereint mit einer Neo-Soulstimme gleichermaßen Hip-Hop und Jazz. Vorab: HMT Stage Night Special mit Keboo.
SUMMARY:KID BE KID »Lovely Genders«
ORGANIZER:Jazzclub Leipzig e.V.
URL;VALUE=URI:https://www.jazzclub-leipzig.de/kategorie-jazztage/kid-be-kid-lovely-genders/
TRANSP:OPAQUE
BEGIN:VALARM
ACTION:DISPLAY
TRIGGER;VALUE=DATE-TIME:20211001T210000Z
DESCRIPTION:Erinnerung an KID BE KID »Lovely Genders«
END:VALARM
END:VEVENT
END:VCALENDAR
