BEGIN:VCALENDAR
VERSION:2.0
PRODID:-//Jazzclub Leipzig e.V. //NONSGML Events //EN
CALSCALE:GREGORIAN
X-WR-CALNAME:Jazzclub Leipzig e.V.
BEGIN:VEVENT
X-CREATED:20210904T132242Z
UID:23624
DTEND;VALUE=DATE:20211006T170000
DTSTART;VALUE=DATE:20211006T150000
DTSTAMP:20260420T193922Z
LOCATION:Altes Stadtbad\, EUTRITZSCHER STR. 21\, 04105 LEIPZIG
DESCRIPTION:Im Dialog. Treffen der experimentellen und jungen polnischen und deutschen Musikszene. Zweite Konzerttour durch die "Lost Places" um 17:00 Uhr.
SUMMARY:Karch | Ní Bhriain | Rumsch | Wójcik »Celestially Light I«
ORGANIZER:Jazzclub Leipzig e.V.
URL;VALUE=URI:https://www.jazzclub-leipzig.de/kategorie-jazztage/karch-ni-bhriain-rumsch-wojcik-celestially-light-i/
TRANSP:OPAQUE
BEGIN:VALARM
ACTION:DISPLAY
TRIGGER;VALUE=DATE-TIME:20211006T140000Z
DESCRIPTION:Erinnerung an Karch | Ní Bhriain | Rumsch | Wójcik »Celestially Light I«
END:VALARM
END:VEVENT
END:VCALENDAR
