BEGIN:VCALENDAR
VERSION:2.0
PRODID:-//Jazzclub Leipzig e.V. //NONSGML Events //EN
CALSCALE:GREGORIAN
X-WR-CALNAME:Jazzclub Leipzig e.V.
BEGIN:VEVENT
X-CREATED:20210829T222804Z
UID:23106
DTEND;VALUE=DATE:20211008T213000
DTSTART;VALUE=DATE:20211008T193000
DTSTAMP:20260420T203027Z
LOCATION:Theaterhaus Schille\, Otto-Schill-Straße 7\,  04109 Leipzig
DESCRIPTION:Ein Trio wie eine Maschine, die atmosphärisch-spirituellen Charakter entfaltet, der zum Träumen einlädt. Zweites Konzert um 21:30 Uhr.
SUMMARY:Prozessor
ORGANIZER:Jazzclub Leipzig e.V.
URL;VALUE=URI:https://www.jazzclub-leipzig.de/kategorie-jazztage/prozessor/
TRANSP:OPAQUE
BEGIN:VALARM
ACTION:DISPLAY
TRIGGER;VALUE=DATE-TIME:20211008T183000Z
DESCRIPTION:Erinnerung an Prozessor
END:VALARM
END:VEVENT
END:VCALENDAR
