BEGIN:VCALENDAR
VERSION:2.0
PRODID:-//Jazzclub Leipzig e.V. //NONSGML Events //EN
CALSCALE:GREGORIAN
X-WR-CALNAME:Jazzclub Leipzig e.V.
BEGIN:VEVENT
X-CREATED:20210903T112206Z
UID:23093
DTEND;VALUE=DATE:20211008T015900
DTSTART;VALUE=DATE:20211007T235900
DTSTAMP:20260420T172950Z
LOCATION:die naTo\, Karl-Liebknecht-Straße 46\, 04275 Leipzig
DESCRIPTION:Im Austausch. Polnische Musiker*innen und solche der hiesigen Szene treffen an verschiedenen Punkten im Festival aufeinander.
SUMMARY:Karch | Rumsch »Celestially Light II«
ORGANIZER:Jazzclub Leipzig e.V.
URL;VALUE=URI:https://www.jazzclub-leipzig.de/kategorie-jazztage/karch-rumsch-celestially-light-ii/
TRANSP:OPAQUE
BEGIN:VALARM
ACTION:DISPLAY
TRIGGER;VALUE=DATE-TIME:20211007T225900Z
DESCRIPTION:Erinnerung an Karch | Rumsch »Celestially Light II«
END:VALARM
END:VEVENT
END:VCALENDAR
