BEGIN:VCALENDAR
VERSION:2.0
PRODID:-//Jazzclub Leipzig e.V. //NONSGML Events //EN
CALSCALE:GREGORIAN
X-WR-CALNAME:Jazzclub Leipzig e.V.
BEGIN:VEVENT
X-CREATED:20210830T160238Z
UID:23084
DTEND;VALUE=DATE:20211007T210000
DTSTART;VALUE=DATE:20211007T190000
DTSTAMP:20260420T203028Z
LOCATION:die naTo\, Karl-Liebknecht-Straße 46\, 04275 Leipzig
DESCRIPTION:Die Musik der jungen polnischen Band um den Gitarristen Kuba Wójcik erforscht neue Dimensionen, die durch die aus Sibirien stammende Sängerin und Vokalkünstlerin Sainkho Namtchylak und ihre Erfahrung inspiriert sind. Zweites Konzert um 22:00 Uhr.
SUMMARY:MINIM feat. Sainkho
ORGANIZER:Jazzclub Leipzig e.V.
URL;VALUE=URI:https://www.jazzclub-leipzig.de/kategorie-jazztage/minim-feat-sainkho/
TRANSP:OPAQUE
BEGIN:VALARM
ACTION:DISPLAY
TRIGGER;VALUE=DATE-TIME:20211007T180000Z
DESCRIPTION:Erinnerung an MINIM feat. Sainkho
END:VALARM
END:VEVENT
END:VCALENDAR
