BEGIN:VCALENDAR
VERSION:2.0
PRODID:-//Jazzclub Leipzig e.V. //NONSGML Events //EN
CALSCALE:GREGORIAN
X-WR-CALNAME:Jazzclub Leipzig e.V.
BEGIN:VEVENT
X-CREATED:20210830T111547Z
UID:22997
DTEND;VALUE=DATE:20211009T213000
DTSTART;VALUE=DATE:20211009T193000
DTSTAMP:20260422T111529Z
LOCATION:Schauspiel Leipzig\,  Bosestraße 1\, 04109 Leipzig
DESCRIPTION:Im Stück der Choreographin Naïma Mazic mit Kompositionen von Pianist Elias Stemeseder eröffnen Polyrhythmen, geteilt von Tänzer*innen und Musiker*innen neue Perspektiven.
SUMMARY:PoLy-Mirrors / a re-performance of feminine diagonals
ORGANIZER:Jazzclub Leipzig e.V.
URL;VALUE=URI:https://www.jazzclub-leipzig.de/kategorie-jazztage/poly-mirrors-a-re-performance-of-feminine-diagonals/
TRANSP:OPAQUE
BEGIN:VALARM
ACTION:DISPLAY
TRIGGER;VALUE=DATE-TIME:20211009T183000Z
DESCRIPTION:Erinnerung an PoLy-Mirrors / a re-performance of feminine diagonals
END:VALARM
END:VEVENT
END:VCALENDAR
