BEGIN:VCALENDAR
VERSION:2.0
PRODID:-//Jazzclub Leipzig e.V. //NONSGML Events //EN
CALSCALE:GREGORIAN
X-WR-CALNAME:Jazzclub Leipzig e.V.
BEGIN:VEVENT
X-CREATED:20210829T214244Z
UID:22904
DTEND;VALUE=DATE:20211007T000000
DTSTART;VALUE=DATE:20211006T220000
DTSTAMP:20260420T184231Z
LOCATION:Altes Stadtbad\, Eutritzscher Str. 21\, 04105 Leipzig
DESCRIPTION:Flüssig, gasförmig und fest. Die musikalische Erforschung der Aggregatzustände von Wasser in der stimmigen Kulisse des Alten Stadtbads.
SUMMARY:Euregio Collective »FLOATING: Reflections On Water«
ORGANIZER:Jazzclub Leipzig e.V.
URL;VALUE=URI:https://www.jazzclub-leipzig.de/kategorie-jazzclub/euregio-collective-floating-reflections-on-water/
TRANSP:OPAQUE
BEGIN:VALARM
ACTION:DISPLAY
TRIGGER;VALUE=DATE-TIME:20211006T210000Z
DESCRIPTION:Erinnerung an Euregio Collective »FLOATING: Reflections On Water«
END:VALARM
END:VEVENT
END:VCALENDAR
