BEGIN:VCALENDAR
VERSION:2.0
PRODID:-//Jazzclub Leipzig e.V. //NONSGML Events //EN
CALSCALE:GREGORIAN
X-WR-CALNAME:Jazzclub Leipzig e.V.
BEGIN:VEVENT
X-CREATED:20210828T112429Z
UID:22898
DTEND;VALUE=DATE:20211006T220000
DTSTART;VALUE=DATE:20211006T200000
DTSTAMP:20260420T183551Z
LOCATION:Altes Stadtbad\, Eutritzscher Str. 21\, 04105 Leipzig
DESCRIPTION:Kontrabassist und Komponist Robert Lucaciu defragmentiert in seinem neuesten Projekt das eigene, (cis-)männliche Selbstverständnis.
SUMMARY:Fallen Crooner
ORGANIZER:Jazzclub Leipzig e.V.
URL;VALUE=URI:https://www.jazzclub-leipzig.de/kategorie-jazztage/fallen-crooner/
TRANSP:OPAQUE
BEGIN:VALARM
ACTION:DISPLAY
TRIGGER;VALUE=DATE-TIME:20211006T190000Z
DESCRIPTION:Erinnerung an Fallen Crooner
END:VALARM
END:VEVENT
END:VCALENDAR
