BEGIN:VCALENDAR
VERSION:2.0
PRODID:-//Jazzclub Leipzig e.V. //NONSGML Events //EN
CALSCALE:GREGORIAN
X-WR-CALNAME:Jazzclub Leipzig e.V.
BEGIN:VEVENT
X-CREATED:20210905T104905Z
UID:22839
DTEND;VALUE=DATE:20211005T203000
DTSTART;VALUE=DATE:20211005T183000
DTSTAMP:20260420T174325Z
LOCATION:Schaubühne Lindenfels\, Karl-Heine-Straße 50\, 04229 Leipzig
DESCRIPTION:Unstillbare Energie und voller Körpereinsatz. Im Rahmen der Kooperation mit dem Südtirol Jazzfestival trifft eine Tänzerin auf zwei Kontrabassisten. Vorab: Naïma Mazic & Haggai Cohen-Milo »of(f) rhythm«
SUMMARY:Giocondo / Ramoser / Sberveglieri »Sugar«
ORGANIZER:Jazzclub Leipzig e.V.
URL;VALUE=URI:https://www.jazzclub-leipzig.de/kategorie-jazztage/giocondo-ramoser-sberveglieri-sugar/
TRANSP:OPAQUE
BEGIN:VALARM
ACTION:DISPLAY
TRIGGER;VALUE=DATE-TIME:20211005T173000Z
DESCRIPTION:Erinnerung an Giocondo / Ramoser / Sberveglieri »Sugar«
END:VALARM
END:VEVENT
END:VCALENDAR
