BEGIN:VCALENDAR
VERSION:2.0
PRODID:-//Jazzclub Leipzig e.V. //NONSGML Events //EN
CALSCALE:GREGORIAN
X-WR-CALNAME:Jazzclub Leipzig e.V.
BEGIN:VEVENT
X-CREATED:20210829T155827Z
UID:22834
DTEND;VALUE=DATE:20211004T213000
DTSTART;VALUE=DATE:20211004T193000
DTSTAMP:20260420T184154Z
LOCATION:die naTo\, Karl-Liebknecht-Straße 46\, 04275 Leipzig
DESCRIPTION:Erstaufführung! Sängerin Anne Munka und Schlagzeuger Demian Kappenstein kreieren gemeinsam eine mehrdimensionale Welt der Klänge.
SUMMARY:Munka/Kappenstein »Into Me / Out Of Me«
ORGANIZER:Jazzclub Leipzig e.V.
URL;VALUE=URI:https://www.jazzclub-leipzig.de/kategorie-jazztage/munka-kappenstein-into-me-out-of-me/
TRANSP:OPAQUE
BEGIN:VALARM
ACTION:DISPLAY
TRIGGER;VALUE=DATE-TIME:20211004T183000Z
DESCRIPTION:Erinnerung an Munka/Kappenstein »Into Me / Out Of Me«
END:VALARM
END:VEVENT
END:VCALENDAR
