BEGIN:VCALENDAR
VERSION:2.0
PRODID:-//Jazzclub Leipzig e.V. //NONSGML Events //EN
CALSCALE:GREGORIAN
X-WR-CALNAME:Jazzclub Leipzig e.V.
BEGIN:VEVENT
X-CREATED:20210826T144935Z
UID:22815
DTEND;VALUE=DATE:20211003T200000
DTSTART;VALUE=DATE:20211003T180000
DTSTAMP:20260420T211509Z
LOCATION:UT Connewitz\, Wolfgang-Heinze-Straße 12 a\, 04277 Leipzig
DESCRIPTION:Czajka & Puchacz ist das Duo der slowenischen Pianistin Kaja Draksler und dem polnischen Schlagzeuger Szymon Gąsiorek. ;
SUMMARY:Czajka & Puchacz
ORGANIZER:Jazzclub Leipzig e.V.
URL;VALUE=URI:https://www.jazzclub-leipzig.de/kategorie-jazztage/czajka-puchacz/
TRANSP:OPAQUE
BEGIN:VALARM
ACTION:DISPLAY
TRIGGER;VALUE=DATE-TIME:20211003T170000Z
DESCRIPTION:Erinnerung an Czajka &#038\; Puchacz
END:VALARM
END:VEVENT
END:VCALENDAR
