BEGIN:VCALENDAR
VERSION:2.0
PRODID:-//Jazzclub Leipzig e.V. //NONSGML Events //EN
CALSCALE:GREGORIAN
X-WR-CALNAME:Jazzclub Leipzig e.V.
BEGIN:VEVENT
X-CREATED:20210825T120308Z
UID:22812
DTEND;VALUE=DATE:20211003T000000
DTSTART;VALUE=DATE:20211002T220000
DTSTAMP:20260420T194451Z
LOCATION:Alte Handelsbörse\, Naschmarkt 1\, 04109 Leipzig
DESCRIPTION:Rahel Hutter und Niklas Kraft musizieren mit verschiedenen Instrumenten und DAWs und experimentieren mit Verfremdungen von Klang- und Textfragmenten. Zweites Konzert um 23:59 Uhr.
SUMMARY:snakesoda
ORGANIZER:Jazzclub Leipzig e.V.
URL;VALUE=URI:https://www.jazzclub-leipzig.de/kategorie-jazztage/snakesoda/
TRANSP:OPAQUE
BEGIN:VALARM
ACTION:DISPLAY
TRIGGER;VALUE=DATE-TIME:20211002T210000Z
DESCRIPTION:Erinnerung an snakesoda
END:VALARM
END:VEVENT
END:VCALENDAR
