BEGIN:VCALENDAR
VERSION:2.0
PRODID:-//Jazzclub Leipzig e.V. //NONSGML Events //EN
CALSCALE:GREGORIAN
X-WR-CALNAME:Jazzclub Leipzig e.V.
BEGIN:VEVENT
X-CREATED:20210825T115945Z
UID:22799
DTEND;VALUE=DATE:20211002T200000
DTSTART;VALUE=DATE:20211002T180000
DTSTAMP:20260420T193819Z
LOCATION:Alte Handelsbörse\, Naschmarkt 1\, 04109 Leipzig
DESCRIPTION:Das von Maike Lindemann und Sonja Harth konzipierte Hörerlebnis aus Sprache, Sound-Hörspiel und Songs lässt die Stimme im Mittelpunkt stehen. Zweites Konzert um 20:00 Uhr.
SUMMARY:Harth/Lindemann »STIMMEN IM KOPF«
ORGANIZER:Jazzclub Leipzig e.V.
URL;VALUE=URI:https://www.jazzclub-leipzig.de/kategorie-jazztage/stimmen-im-kopf/
TRANSP:OPAQUE
BEGIN:VALARM
ACTION:DISPLAY
TRIGGER;VALUE=DATE-TIME:20211002T170000Z
DESCRIPTION:Erinnerung an Harth/Lindemann »STIMMEN IM KOPF«
END:VALARM
END:VEVENT
END:VCALENDAR
