BEGIN:VCALENDAR
VERSION:2.0
PRODID:-//Jazzclub Leipzig e.V. //NONSGML Events //EN
CALSCALE:GREGORIAN
X-WR-CALNAME:Jazzclub Leipzig e.V.
BEGIN:VEVENT
X-CREATED:20210825T115824Z
UID:22796
DTEND;VALUE=DATE:20211002T023000
DTSTART;VALUE=DATE:20211002T003000
DTSTAMP:20260422T105949Z
LOCATION:Werk 2\, Kochstraße 132\, 04277 Leipzig
DESCRIPTION:Neues aus Brasilien, via Budapest und Lagos: Àbáse verschmilzt Samba und HipHop zu einem sonnenfunkelnden Mixtape.
SUMMARY:Àbáse
ORGANIZER:Jazzclub Leipzig e.V.
URL;VALUE=URI:https://www.jazzclub-leipzig.de/kategorie-jazztage/abase/
TRANSP:OPAQUE
BEGIN:VALARM
ACTION:DISPLAY
TRIGGER;VALUE=DATE-TIME:20211001T233000Z
DESCRIPTION:Erinnerung an Àbáse
END:VALARM
END:VEVENT
END:VCALENDAR
