BEGIN:VCALENDAR
VERSION:2.0
PRODID:-//Jazzclub Leipzig e.V. //NONSGML Events //EN
CALSCALE:GREGORIAN
X-WR-CALNAME:Jazzclub Leipzig e.V.
BEGIN:VEVENT
X-CREATED:20210810T123851Z
UID:22721
DTEND;VALUE=DATE:20210911T220000
DTSTART;VALUE=DATE:20210911T200000
DTSTAMP:20260419T153928Z
LOCATION:UT Connewitz\, Wolfgang-Heinze-Straße 12a\, 04277 Leipzig
DESCRIPTION:Achtung! Abgesagt! Leider wird dieses Konzert nicht stattfinden können! Gekaufte Tickets werden erstattet.
SUMMARY:Rolf von Nordenskjöld Orchestra »Best of 25 Years«
ORGANIZER:Jazzclub Leipzig e.V.
URL;VALUE=URI:https://www.jazzclub-leipzig.de/kategorie-jazzclub/rolf-von-nordenskjoeld-orchestra-best-of-25-years/
TRANSP:OPAQUE
BEGIN:VALARM
ACTION:DISPLAY
TRIGGER;VALUE=DATE-TIME:20210911T190000Z
DESCRIPTION:Erinnerung an Rolf von Nordenskjöld Orchestra »Best of 25 Years«
END:VALARM
END:VEVENT
END:VCALENDAR
