BEGIN:VCALENDAR
VERSION:2.0
PRODID:-//Jazzclub Leipzig e.V. //NONSGML Events //EN
CALSCALE:GREGORIAN
X-WR-CALNAME:Jazzclub Leipzig e.V.
BEGIN:VEVENT
X-CREATED:20210730T115042Z
UID:22626
DTEND;VALUE=DATE:20210831T220000
DTSTART;VALUE=DATE:20210831T200000
DTSTAMP:20260420T222626Z
LOCATION:Grassi Museum (Innenhof)\, Johannisplatz 5–11\, 04103 Leipzig
DESCRIPTION:Doppelkonzert zweier hochkarätig besetzter Bands im idyllischen Innenhof des Grassi Museums.
SUMMARY:Arne Jansen Trio I                                                       Reza Askari’s ROAR
ORGANIZER:Jazzclub Leipzig e.V.
URL;VALUE=URI:https://www.jazzclub-leipzig.de/kategorie-jazzclub/arne-jansen-trio-i-reza-askaris-roar/
TRANSP:OPAQUE
BEGIN:VALARM
ACTION:DISPLAY
TRIGGER;VALUE=DATE-TIME:20210831T190000Z
DESCRIPTION:Erinnerung an Arne Jansen Trio I                                                       Reza Askari’s ROAR
END:VALARM
END:VEVENT
END:VCALENDAR
