BEGIN:VCALENDAR
VERSION:2.0
PRODID:-//Jazzclub Leipzig e.V. //NONSGML Events //EN
CALSCALE:GREGORIAN
X-WR-CALNAME:Jazzclub Leipzig e.V.
BEGIN:VEVENT
X-CREATED:20210707T090547Z
UID:22341
DTEND;VALUE=DATE:20210804T213000
DTSTART;VALUE=DATE:20210804T193000
DTSTAMP:20260420T202930Z
LOCATION:Arena am Panometer\, Richard-Lehmann-Straße 114\, 04275 Leipzig
DESCRIPTION:Beide Bands verhandeln das Verhältnis von Individualität und Gemeinsamkeit innerhalb eines Moments, einer Komposition und eines Kollektivs auf verschiedene Weise. Geht es bei Die Unwucht feat. Achim Kaufmann eher darum, die Dissonanzen von Aushandlungsprozessen zu betonen, so versucht BREU einen gemeinschaftlichen Entfaltungsraum zu schaffen. Ein spannungsreicher Doppelkonzert-Abend in außergewöhnlicher Kulisse auf der Sommerbühne am Panometer.
SUMMARY:Die Unwucht feat. Achim Kaufmann & BREU
ORGANIZER:Jazzclub Leipzig e.V.
URL;VALUE=URI:https://www.jazzclub-leipzig.de/kategorie-jazzclub/jazzclub-termine/die-unwucht-feat-achim-kaufmann-breu/
TRANSP:OPAQUE
BEGIN:VALARM
ACTION:DISPLAY
TRIGGER;VALUE=DATE-TIME:20210804T183000Z
DESCRIPTION:Erinnerung an Die Unwucht feat. Achim Kaufmann &#038\; BREU
END:VALARM
END:VEVENT
END:VCALENDAR
