BEGIN:VCALENDAR
VERSION:2.0
PRODID:-//Jazzclub Leipzig e.V. //NONSGML Events //EN
CALSCALE:GREGORIAN
X-WR-CALNAME:Jazzclub Leipzig e.V.
BEGIN:VEVENT
X-CREATED:20210706T132553Z
UID:22319
DTEND;VALUE=DATE:20210808T220000
DTSTART;VALUE=DATE:20210808T200000
DTSTAMP:20260420T222625Z
LOCATION:UT Connewitz\, Wolfgang-Heinze-Straße 12a\, 04277 Leipzig
DESCRIPTION:Nach der ausgefallenen Releasetour im Frühjahr 2020 bringt das Philipp Rumsch Ensemble die Musik von »µ: of anxiety x discernment« nun erstmals auf die Bühne. Begeisterte Besprechungen des Albums bei BBC, Electronic Sounds, NDR und Radioeins uvm., sowie internationale Aufmerksamkeit begleiteten den Release im April 2020.
SUMMARY:Philipp Rumsch Ensemble
ORGANIZER:Jazzclub Leipzig e.V.
URL;VALUE=URI:https://www.jazzclub-leipzig.de/kategorie-jazzclub/philipp-rumsch-ensemble-%c2%b5-of-anxiety-x-discernment/
TRANSP:OPAQUE
BEGIN:VALARM
ACTION:DISPLAY
TRIGGER;VALUE=DATE-TIME:20210808T190000Z
DESCRIPTION:Erinnerung an Philipp Rumsch Ensemble
END:VALARM
END:VEVENT
END:VCALENDAR
