BEGIN:VCALENDAR
VERSION:2.0
PRODID:-//Jazzclub Leipzig e.V. //NONSGML Events //EN
CALSCALE:GREGORIAN
X-WR-CALNAME:Jazzclub Leipzig e.V.
BEGIN:VEVENT
X-CREATED:20210622T115125Z
UID:22058
DTEND;VALUE=DATE:20210717T223000
DTSTART;VALUE=DATE:20210717T203000
DTSTAMP:20260419T153924Z
LOCATION:OSTWACHE (VORPLATZ)\, GREGOR-FUCHS-STRASSE 45-47\, 04318 LEIPZIG
DESCRIPTION:Mystisch, spirituell, radikal - die unentdeckte psychedelische Bewegung der 60er & 70er-Jahre in Schweden. Ein DJ-Set.
SUMMARY:esclé
ORGANIZER:Jazzclub Leipzig e.V.
URL;VALUE=URI:https://www.jazzclub-leipzig.de/kategorie-musikzeit/escle/
TRANSP:OPAQUE
BEGIN:VALARM
ACTION:DISPLAY
TRIGGER;VALUE=DATE-TIME:20210717T193000Z
DESCRIPTION:Erinnerung an esclé
END:VALARM
END:VEVENT
END:VCALENDAR
