BEGIN:VCALENDAR
VERSION:2.0
PRODID:-//Jazzclub Leipzig e.V. //NONSGML Events //EN
CALSCALE:GREGORIAN
X-WR-CALNAME:Jazzclub Leipzig e.V.
BEGIN:VEVENT
X-CREATED:20210618T204027Z
UID:22001
DTEND;VALUE=DATE:20210925T170000
DTSTART;VALUE=DATE:20210925T150000
DTSTAMP:20260419T154021Z
LOCATION:Kleiner Teich im Eingangsbereich des Rosentals\, Emil-Fuchs-Straße \, 04105 Leipzig
DESCRIPTION:Die Doppeldeutigkeit der Farbe Grau in Bezug auf die Betrachtung des Waldes thematisiert in fünf neuen Kompositionen.; Spaziergang und Konzert auch ab 16:00 Uhr.
SUMMARY:Carl Christian Wittig’s Songs of Silver Gray
ORGANIZER:Jazzclub Leipzig e.V.
URL;VALUE=URI:https://www.jazzclub-leipzig.de/kategorie-musikzeit/musikzeit-programm/open-air-konzert/carl-christian-wittigs-songs-of-silver-gray/
TRANSP:OPAQUE
BEGIN:VALARM
ACTION:DISPLAY
TRIGGER;VALUE=DATE-TIME:20210925T140000Z
DESCRIPTION:Erinnerung an Carl Christian Wittig’s Songs of Silver Gray
END:VALARM
END:VEVENT
END:VCALENDAR
