BEGIN:VCALENDAR
VERSION:2.0
PRODID:-//Jazzclub Leipzig e.V. //NONSGML Events //EN
CALSCALE:GREGORIAN
X-WR-CALNAME:Jazzclub Leipzig e.V.
BEGIN:VEVENT
X-CREATED:20210601T120501Z
UID:21747
DTEND;VALUE=DATE:20210629T210000
DTSTART;VALUE=DATE:20210629T190000
DTSTAMP:20260420T213904Z
LOCATION:Villa Hasenholz
DESCRIPTION:Konzert und Session in Kooperation von Jazzclub Leipzig und HMT Leipzig • Session im Anschluss • 2,00 € Kulturbeitrag für den Session-Opener auf das 1. Getränk
SUMMARY:Grund zur Annahme
ORGANIZER:Jazzclub Leipzig e.V.
URL;VALUE=URI:https://www.jazzclub-leipzig.de/kategorie-jazzclub/jazzclub-termine/grund-zur-annahme/
TRANSP:OPAQUE
BEGIN:VALARM
ACTION:DISPLAY
TRIGGER;VALUE=DATE-TIME:20210629T180000Z
DESCRIPTION:Erinnerung an Grund zur Annahme
END:VALARM
END:VEVENT
END:VCALENDAR
