BEGIN:VCALENDAR
VERSION:2.0
PRODID:-//Jazzclub Leipzig e.V. //NONSGML Events //EN
CALSCALE:GREGORIAN
X-WR-CALNAME:Jazzclub Leipzig e.V.
BEGIN:VEVENT
X-CREATED:20210601T120501Z
UID:21740
DTEND;VALUE=DATE:20210622T210000
DTSTART;VALUE=DATE:20210622T190000
DTSTAMP:20260420T212647Z
LOCATION:Villa Hasenholz
DESCRIPTION:Konzert und Session in Kooperation von Jazzclub Leipzig und HMT Leipzig • Arthur Kohlhaas (sax), Moritz Land (g), Jan Einar Groh (dr), Tobias Fröhlich (b) •  Session im Anschluss • […]
SUMMARY:Moritz Land Quartett
ORGANIZER:Jazzclub Leipzig e.V.
URL;VALUE=URI:https://www.jazzclub-leipzig.de/kategorie-jazzclub/jazzclub-termine/moritz-land-quartett/
TRANSP:OPAQUE
BEGIN:VALARM
ACTION:DISPLAY
TRIGGER;VALUE=DATE-TIME:20210622T180000Z
DESCRIPTION:Erinnerung an Moritz Land Quartett
END:VALARM
END:VEVENT
END:VCALENDAR
