BEGIN:VCALENDAR
VERSION:2.0
PRODID:-//Jazzclub Leipzig e.V. //NONSGML Events //EN
CALSCALE:GREGORIAN
X-WR-CALNAME:Jazzclub Leipzig e.V.
BEGIN:VEVENT
X-CREATED:20210601T120501Z
UID:21731
DTEND;VALUE=DATE:20210615T210000
DTSTART;VALUE=DATE:20210615T190000
DTSTAMP:20260420T215548Z
LOCATION:Villa Hasenholz
DESCRIPTION:Konzert und Session in Kooperation von Jazzclub Leipzig und HMT Leipzig • Session im Anschluss  • Elias Vollmer (p), Frederik Kleimann (kb), Jonas Müller (dr), Arthur Kohlhaas (as), Jakob Maes (tp), […]
SUMMARY:Tears for Ears
ORGANIZER:Jazzclub Leipzig e.V.
URL;VALUE=URI:https://www.jazzclub-leipzig.de/kategorie-jazzclub/jazzclub-termine/kleimann-mueller-vollmer/
TRANSP:OPAQUE
BEGIN:VALARM
ACTION:DISPLAY
TRIGGER;VALUE=DATE-TIME:20210615T180000Z
DESCRIPTION:Erinnerung an Tears for Ears
END:VALARM
END:VEVENT
END:VCALENDAR
